BEGIN:VCALENDAR
VERSION:2.0
PRODID:-//Bayside Vehicle Restorers Club - ECPv4.6.10.1//NONSGML v1.0//EN
CALSCALE:GREGORIAN
METHOD:PUBLISH
X-WR-CALNAME:Bayside Vehicle Restorers Club
X-ORIGINAL-URL:http://baysideclub.org.au
X-WR-CALDESC:Events for Bayside Vehicle Restorers Club
BEGIN:VEVENT
DTSTART;TZID=UTC+10:20180224T173000
DTEND;TZID=UTC+10:20180224T210000
DTSTAMP:20180224T055450
CREATED:20171110T112631Z
LAST-MODIFIED:20180208T095709Z
UID:3840-1519493400-1519506000@baysideclub.org.au
SUMMARY:All Wheels a Go
DESCRIPTION:All Wheels A Go \nMeet at Hungry Jacks – Wynnum Plaza\, Wynnum Rd\, Wynnum West\nEvery Saturday from 5:00 PM \n \n
URL:http://baysideclub.org.au/event/all-wheels-a-go-2018-02-24/
LOCATION:2021 Wynnum Road\, Wynnum West\, Queensland\, 4178\, Australia
CATEGORIES:Others
ATTACH;FMTTYPE=image/jpeg:http://baysideclub.org.au/wp-content/uploads/AllWheelsAGo_WynnumCarMeet_Feature.jpg
END:VEVENT
BEGIN:VEVENT
DTSTART;TZID=UTC+10:20180225T100000
DTEND;TZID=UTC+10:20180225T130000
DTSTAMP:20180224T055450
CREATED:20171110T114220Z
LAST-MODIFIED:20171110T114220Z
UID:3855-1519552800-1519563600@baysideclub.org.au
SUMMARY:Wynnum Auto Classic Car and Bike Show-n-Shine
DESCRIPTION:Waterloo Hotel\, Berrima St\, Wynnum from 10am to 1pm\n \n
URL:http://baysideclub.org.au/event/wynnum-auto-classic-car-and-bike-show-n-shine-2018-02-25/
LOCATION:75 Berrima Street\, Wynnum\, Qld\, 4178\, Australia
CATEGORIES:Others
ATTACH;FMTTYPE=image/jpeg:http://baysideclub.org.au/wp-content/uploads/WaterlooHotel_ShowNShine_Feature.jpg
END:VEVENT
BEGIN:VEVENT
DTSTART;TZID=UTC+10:20180302T160000
DTEND;TZID=UTC+10:20180302T210000
DTSTAMP:20180224T055450
CREATED:20180208T104200Z
LAST-MODIFIED:20180208T104200Z
UID:4115-1520006400-1520024400@baysideclub.org.au
SUMMARY:Munch Inn - Show-n-Shine
DESCRIPTION:Come and appreciate others’ cars and encourage young people into our hobby. \nMeet in the shops carpark\, enter off Mitchell Street. \n
URL:http://baysideclub.org.au/event/munch-inn-show-n-shine-15/
LOCATION:Cnr Beaudesert Road and Elizabeth Streets\, Acacia Ridge\, QLD\, Australia
CATEGORIES:Others
END:VEVENT
BEGIN:VEVENT
DTSTART;TZID=UTC+10:20180303T173000
DTEND;TZID=UTC+10:20180303T210000
DTSTAMP:20180224T055450
CREATED:20171110T112631Z
LAST-MODIFIED:20180208T095743Z
UID:3841-1520098200-1520110800@baysideclub.org.au
SUMMARY:All Wheels a Go
DESCRIPTION:All Wheels A Go \nMeet at Hungry Jacks – Wynnum Plaza\, Wynnum Rd\, Wynnum West\nEvery Saturday from 5:00 PM \n \n
URL:http://baysideclub.org.au/event/all-wheels-a-go-2018-03-03/
LOCATION:2021 Wynnum Road\, Wynnum West\, Queensland\, 4178\, Australia
CATEGORIES:Others
ATTACH;FMTTYPE=image/jpeg:http://baysideclub.org.au/wp-content/uploads/AllWheelsAGo_WynnumCarMeet_Feature.jpg
END:VEVENT
BEGIN:VEVENT
DTSTART;TZID=UTC+10:20180309T193000
DTEND;TZID=UTC+10:20180309T210000
DTSTAMP:20180224T055450
CREATED:20180208T124506Z
LAST-MODIFIED:20180208T124506Z
UID:4245-1520623800-1520629200@baysideclub.org.au
SUMMARY:Club Meeting - March
DESCRIPTION:Club Meeting\nOrmiston State School \n
URL:http://baysideclub.org.au/event/club-meeting-march-2018-2/
LOCATION:82-110 Gordon Street\, Ormiston\, QLD\, 4160\, Australia
CATEGORIES:Club
ATTACH;FMTTYPE=image/png:http://baysideclub.org.au/wp-content/uploads/Logo_hiRes_border02_sm.png
END:VEVENT
BEGIN:VEVENT
DTSTART;TZID=UTC+10:20180310T140000
DTEND;TZID=UTC+10:20180310T160000
DTSTAMP:20180224T055450
CREATED:20180208T122909Z
LAST-MODIFIED:20180208T140422Z
UID:4219-1520690400-1520697600@baysideclub.org.au
SUMMARY:Club Noggin & Natter
DESCRIPTION:Saturday 10th March \nMonthly “Show-n-Tell” get-together.\nBonnets up.\nBYO chairs and snacks\, Fish-n-chips if you like. \n
URL:http://baysideclub.org.au/event/club-noggin-natter-6/
LOCATION:John Street\, Thornside\, QLD\, 4158\, Australia
CATEGORIES:Club
ATTACH;FMTTYPE=image/jpeg:http://baysideclub.org.au/wp-content/uploads/beth-boyd-park-thorneside1.jpg
END:VEVENT
BEGIN:VEVENT
DTSTART;TZID=UTC+10:20180310T173000
DTEND;TZID=UTC+10:20180310T210000
DTSTAMP:20180224T055450
CREATED:20171110T112631Z
LAST-MODIFIED:20180208T095826Z
UID:3842-1520703000-1520715600@baysideclub.org.au
SUMMARY:All Wheels a Go
DESCRIPTION:All Wheels A Go \nMeet at Hungry Jacks – Wynnum Plaza\, Wynnum Rd\, Wynnum West\nEvery Saturday from 5:00 PM \n \n
URL:http://baysideclub.org.au/event/all-wheels-a-go-2018-03-10/
LOCATION:2021 Wynnum Road\, Wynnum West\, Queensland\, 4178\, Australia
CATEGORIES:Others
ATTACH;FMTTYPE=image/jpeg:http://baysideclub.org.au/wp-content/uploads/AllWheelsAGo_WynnumCarMeet_Feature.jpg
END:VEVENT
BEGIN:VEVENT
DTSTART;TZID=UTC+10:20180313T181500
DTEND;TZID=UTC+10:20180313T210000
DTSTAMP:20180224T055450
CREATED:20180208T122909Z
LAST-MODIFIED:20180208T140508Z
UID:4223-1520964900-1520974800@baysideclub.org.au
SUMMARY:Club Social Evening - March
DESCRIPTION:Tanja’s Café\, Wellington Point \nMeet at the venue at 6:15pm \n
URL:http://baysideclub.org.au/event/club-social-evening-march/
LOCATION:372 - 374 Main Road\, Wellington Point\, Qld\, 4160\, Australia
CATEGORIES:Club
ATTACH;FMTTYPE=image/jpeg:http://baysideclub.org.au/wp-content/uploads/Tanjas-Cafe.jpg
END:VEVENT
BEGIN:VEVENT
DTSTART;TZID=UTC+10:20180315T093000
DTEND;TZID=UTC+10:20180315T140000
DTSTAMP:20180224T055450
CREATED:20180208T122909Z
LAST-MODIFIED:20180208T140512Z
UID:4224-1521106200-1521122400@baysideclub.org.au
SUMMARY:Midweek Club Run - March
DESCRIPTION:Morning Tea: Colmslie Beach Reserve\, Colmslie\nUBD 161 H 2\nLunch: Bayside Park\, Manly\nUBD 163 P 3 \n
URL:http://baysideclub.org.au/event/midweek-club-run-march-2/
LOCATION:Queensland
CATEGORIES:Club
ATTACH;FMTTYPE=image/jpeg:http://baysideclub.org.au/wp-content/uploads/ColmslieBeachReserve.jpeg
END:VEVENT
BEGIN:VEVENT
DTSTART;TZID=UTC+10:20180316T160000
DTEND;TZID=UTC+10:20180316T210000
DTSTAMP:20180224T055450
CREATED:20180208T104200Z
LAST-MODIFIED:20180208T104200Z
UID:4117-1521216000-1521234000@baysideclub.org.au
SUMMARY:Munch Inn - Show-n-Shine
DESCRIPTION:Come and appreciate others’ cars and encourage young people into our hobby. \nMeet in the shops carpark\, enter off Mitchell Street. \n
URL:http://baysideclub.org.au/event/munch-inn-show-n-shine-13/
LOCATION:Cnr Beaudesert Road and Elizabeth Streets\, Acacia Ridge\, QLD\, Australia
CATEGORIES:Others
END:VEVENT
BEGIN:VEVENT
DTSTART;TZID=UTC+10:20180317T173000
DTEND;TZID=UTC+10:20180317T210000
DTSTAMP:20180224T055450
CREATED:20171110T112631Z
LAST-MODIFIED:20180208T095854Z
UID:3843-1521307800-1521320400@baysideclub.org.au
SUMMARY:All Wheels a Go
DESCRIPTION:All Wheels A Go \nMeet at Hungry Jacks – Wynnum Plaza\, Wynnum Rd\, Wynnum West\nEvery Saturday from 5:00 PM \n \n
URL:http://baysideclub.org.au/event/all-wheels-a-go-2018-03-17/
LOCATION:2021 Wynnum Road\, Wynnum West\, Queensland\, 4178\, Australia
CATEGORIES:Others
ATTACH;FMTTYPE=image/jpeg:http://baysideclub.org.au/wp-content/uploads/AllWheelsAGo_WynnumCarMeet_Feature.jpg
END:VEVENT
BEGIN:VEVENT
DTSTART;TZID=UTC+10:20180321T100000
DTEND;TZID=UTC+10:20180321T140000
DTSTAMP:20180224T055450
CREATED:20180208T122909Z
LAST-MODIFIED:20180208T140601Z
UID:4225-1521626400-1521640800@baysideclub.org.au
SUMMARY:Ladies Morning Tea - March
DESCRIPTION:Café La Mer\n570 Royal Esplanade\, Manly \nDrive into Yacht Club on the Manly Esplanade between Manly and Lota \nAll club members welcome \nCheryl Bliesner 0417 158 848\nRuth Knight 0428 437 581 \n
URL:http://baysideclub.org.au/event/ladies-morning-tea-march-2/
LOCATION:570 Royal Ave\, Manly\, QLD\, 4179\, Australia
CATEGORIES:Club
ATTACH;FMTTYPE=image/jpeg:http://baysideclub.org.au/wp-content/uploads/cafe-la-mer.jpg
END:VEVENT
BEGIN:VEVENT
DTSTART;TZID=UTC+10:20180323T160000
DTEND;TZID=UTC+10:20180323T210000
DTSTAMP:20180224T055450
CREATED:20180208T104200Z
LAST-MODIFIED:20180208T104200Z
UID:4118-1521820800-1521838800@baysideclub.org.au
SUMMARY:Munch Inn - Show-n-Shine
DESCRIPTION:Come and appreciate others’ cars and encourage young people into our hobby. \nMeet in the shops carpark\, enter off Mitchell Street. \n
URL:http://baysideclub.org.au/event/munch-inn-show-n-shine-12/
LOCATION:Cnr Beaudesert Road and Elizabeth Streets\, Acacia Ridge\, QLD\, Australia
CATEGORIES:Others
END:VEVENT
BEGIN:VEVENT
DTSTART;TZID=UTC+10:20180324T080000
DTEND;TZID=UTC+10:20180324T120000
DTSTAMP:20180224T055450
CREATED:20180208T122909Z
LAST-MODIFIED:20180208T130313Z
UID:4222-1521878400-1521892800@baysideclub.org.au
SUMMARY:Working Bee
DESCRIPTION:Preparation for Ormiston Swap Meet \n
URL:http://baysideclub.org.au/event/working-bee-swap-2018/
LOCATION:82-110 Gordon Street\, Ormiston\, QLD\, 4160\, Australia
CATEGORIES:Club
ATTACH;FMTTYPE=image/jpeg:http://baysideclub.org.au/wp-content/uploads/WorkingBee.jpg
END:VEVENT
BEGIN:VEVENT
DTSTART;TZID=UTC+10:20180324T173000
DTEND;TZID=UTC+10:20180324T210000
DTSTAMP:20180224T055450
CREATED:20171110T112633Z
LAST-MODIFIED:20180208T095912Z
UID:3844-1521912600-1521925200@baysideclub.org.au
SUMMARY:All Wheels a Go
DESCRIPTION:All Wheels A Go \nMeet at Hungry Jacks – Wynnum Plaza\, Wynnum Rd\, Wynnum West\nEvery Saturday from 5:00 PM \n \n
URL:http://baysideclub.org.au/event/all-wheels-a-go-2018-03-24/
LOCATION:2021 Wynnum Road\, Wynnum West\, Queensland\, 4178\, Australia
CATEGORIES:Others
ATTACH;FMTTYPE=image/jpeg:http://baysideclub.org.au/wp-content/uploads/AllWheelsAGo_WynnumCarMeet_Feature.jpg
END:VEVENT
BEGIN:VEVENT
DTSTART;TZID=UTC+10:20180325T060000
DTEND;TZID=UTC+10:20180325T140000
DTSTAMP:20180224T055450
CREATED:20170818T124211Z
LAST-MODIFIED:20180208T115223Z
UID:3093-1521957600-1521986400@baysideclub.org.au
SUMMARY:Ormiston Swap Meet 2018
DESCRIPTION:The Bayside Club Annual Swap Meet is held on the 25th of March 2018. \n  \nThere are hundreds of sites selling parts for all types of vehicles so if you are looking for that special part or just cant resist a bargain be sure to come along. \nThis year there were  hundreds of sites filling both school ovals selling everything from screws\, tools\, vehicle parts through to whole cars there were also plenty of sites selling bric-a-brac. \nGates open at 6.00am and the day generally finishes about 2.00pm. \nThe Ormiston State School sell all the food and drinks at the Ormiston Swap and it is their biggest fundraiser.  So when you attend the Ormiston Swap and buy a burger or have a cuppa while you looking for that hard to find part to fix your pride and joy you will be helping out the Ormiston school community. \n  \nFees \n\nOutside – No Booking Required\n\n$10 – Cars or Utes\n$20 – Cars or Utes with trailers\, and trucks\n\n\nUndercover – Bookings Required (contact Steve Mellish – 0411 516 122)\n\n$35 – 6m x 3m for Antique\, collectables\, memorabilia\, books\, jewellery\, model cars\, etc\n\n\n$5 Pedestrians\, shoppers and lookers\, with children under 12 free.\n\nUndercover sites will be available in the school hall for Antiques\, collectables\, memorabilia\, books\, jewellery\, model cars\, etc. \nEntry to the Ormiston Swap at the Ormiston School is from Wellington St or Dundas St East\, Ormiston. \nClick the link below for the flyer \n2018 Swap flyer \nThe school has a No Smoking\, No Alcohol and a No Pets policy. \n
URL:http://baysideclub.org.au/event/ormiston-swap-meet-2018/
LOCATION:82-110 Gordon Street\, Ormiston\, Queensland\, 4160\, Australia
CATEGORIES:Major
ATTACH;FMTTYPE=image/jpeg:http://baysideclub.org.au/wp-content/uploads/OrmistonSwapMeet_2015_sm-1.jpg
END:VEVENT
BEGIN:VEVENT
DTSTART;TZID=UTC+10:20180325T100000
DTEND;TZID=UTC+10:20180325T130000
DTSTAMP:20180224T055450
CREATED:20171110T114254Z
LAST-MODIFIED:20171110T114254Z
UID:3856-1521972000-1521982800@baysideclub.org.au
SUMMARY:Wynnum Auto Classic Car and Bike Show-n-Shine
DESCRIPTION:Waterloo Hotel\, Berrima St\, Wynnum from 10am to 1pm\n \n
URL:http://baysideclub.org.au/event/wynnum-auto-classic-car-and-bike-show-n-shine-2018-03-25/
LOCATION:75 Berrima Street\, Wynnum\, Qld\, 4178\, Australia
CATEGORIES:Others
ATTACH;FMTTYPE=image/jpeg:http://baysideclub.org.au/wp-content/uploads/WaterlooHotel_ShowNShine_Feature.jpg
END:VEVENT
BEGIN:VEVENT
DTSTART;TZID=UTC+10:20180330T080000
DTEND;TZID=UTC+10:20180330T140000
DTSTAMP:20180224T055450
CREATED:20180208T135551Z
LAST-MODIFIED:20180208T135834Z
UID:4271-1522396800-1522418400@baysideclub.org.au
SUMMARY:Easter in the Country
DESCRIPTION:Roma Historical Motor ClubContacts\nJodie Beitz    0416 221 191  \nKaren Dawes 0429 442 286  \nEmail:  rally@romahistoricalmotorclub.com.au \n
URL:http://baysideclub.org.au/event/easter-in-the-country-2018/
LOCATION:Roma\, Queensland\, Australia
CATEGORIES:Others
END:VEVENT
BEGIN:VEVENT
DTSTART;TZID=UTC+10:20180330T080000
DTEND;TZID=UTC+10:20180402T140000
DTSTAMP:20180224T055450
CREATED:20180208T135551Z
LAST-MODIFIED:20180208T135856Z
UID:4272-1522396800-1522677600@baysideclub.org.au
SUMMARY:2018 RACQ / QHMC Northern Easter Hub Meet
DESCRIPTION:Hosted by Cairns & District Historic Vehicle ClubEmail: cdhvcsecretary@hotmail.com\nHub Director: Tex Costa 07 4091 1884 or 0488 911 884 \n
URL:http://baysideclub.org.au/event/2018-racq-qhmc-northern-easter-hub-meet/
LOCATION:Atherton\, Queensland\, Australia
CATEGORIES:Others
END:VEVENT
BEGIN:VEVENT
DTSTART;TZID=UTC+10:20180330T160000
DTEND;TZID=UTC+10:20180330T210000
DTSTAMP:20180224T055450
CREATED:20180208T104200Z
LAST-MODIFIED:20180208T104200Z
UID:4119-1522425600-1522443600@baysideclub.org.au
SUMMARY:Munch Inn - Show-n-Shine
DESCRIPTION:Come and appreciate others’ cars and encourage young people into our hobby. \nMeet in the shops carpark\, enter off Mitchell Street. \n
URL:http://baysideclub.org.au/event/munch-inn-show-n-shine-11/
LOCATION:Cnr Beaudesert Road and Elizabeth Streets\, Acacia Ridge\, QLD\, Australia
CATEGORIES:Others
END:VEVENT
BEGIN:VEVENT
DTSTART;TZID=UTC+10:20180331T173000
DTEND;TZID=UTC+10:20180331T210000
DTSTAMP:20180224T055450
CREATED:20171110T112633Z
LAST-MODIFIED:20180208T095930Z
UID:3845-1522517400-1522530000@baysideclub.org.au
SUMMARY:All Wheels a Go
DESCRIPTION:All Wheels A Go \nMeet at Hungry Jacks – Wynnum Plaza\, Wynnum Rd\, Wynnum West\nEvery Saturday from 5:00 PM \n \n
URL:http://baysideclub.org.au/event/all-wheels-a-go-2018-03-31/
LOCATION:2021 Wynnum Road\, Wynnum West\, Queensland\, 4178\, Australia
CATEGORIES:Others
ATTACH;FMTTYPE=image/jpeg:http://baysideclub.org.au/wp-content/uploads/AllWheelsAGo_WynnumCarMeet_Feature.jpg
END:VEVENT
BEGIN:VEVENT
DTSTART;TZID=UTC+10:20180406T160000
DTEND;TZID=UTC+10:20180406T210000
DTSTAMP:20180224T055450
CREATED:20180208T104235Z
LAST-MODIFIED:20180208T104235Z
UID:4120-1523030400-1523048400@baysideclub.org.au
SUMMARY:Munch Inn - Show-n-Shine
DESCRIPTION:Come and appreciate others’ cars and encourage young people into our hobby. \nMeet in the shops carpark\, enter off Mitchell Street. \n
URL:http://baysideclub.org.au/event/munch-inn-show-n-shine-34/
LOCATION:Cnr Beaudesert Road and Elizabeth Streets\, Acacia Ridge\, QLD\, Australia
CATEGORIES:Others
END:VEVENT
BEGIN:VEVENT
DTSTART;TZID=UTC+10:20180407T173000
DTEND;TZID=UTC+10:20180407T210000
DTSTAMP:20180224T055450
CREATED:20171110T112633Z
LAST-MODIFIED:20180208T100033Z
UID:3846-1523122200-1523134800@baysideclub.org.au
SUMMARY:All Wheels a Go
DESCRIPTION:All Wheels A Go \nMeet at Hungry Jacks – Wynnum Plaza\, Wynnum Rd\, Wynnum West\nEvery Saturday from 5:00 PM \n \n
URL:http://baysideclub.org.au/event/all-wheels-a-go-2018-04-07/
LOCATION:2021 Wynnum Road\, Wynnum West\, Queensland\, 4178\, Australia
CATEGORIES:Others
ATTACH;FMTTYPE=image/jpeg:http://baysideclub.org.au/wp-content/uploads/AllWheelsAGo_WynnumCarMeet_Feature.jpg
END:VEVENT
BEGIN:VEVENT
DTSTART;TZID=UTC+10:20180413T193000
DTEND;TZID=UTC+10:20180413T210000
DTSTAMP:20180224T055450
CREATED:20180208T122908Z
LAST-MODIFIED:20180208T123620Z
UID:4217-1523647800-1523653200@baysideclub.org.au
SUMMARY:Club Meeting - April
DESCRIPTION:Club Meeting  Ormiston State School \n
URL:http://baysideclub.org.au/event/club-meeting-april-2018/
LOCATION:82-110 Gordon Street\, Ormiston\, QLD\, 4160\, Australia
CATEGORIES:Club
ATTACH;FMTTYPE=image/png:http://baysideclub.org.au/wp-content/uploads/Logo_hiRes_border02_sm.png
END:VEVENT
BEGIN:VEVENT
DTSTART;TZID=UTC+10:20180414T140000
DTEND;TZID=UTC+10:20180414T160000
DTSTAMP:20180224T055450
CREATED:20180208T122908Z
LAST-MODIFIED:20180208T140651Z
UID:4220-1523714400-1523721600@baysideclub.org.au
SUMMARY:Club Noggin & Natter
DESCRIPTION:Saturday 14th April \nMonthly “Show-n-Tell” get-together.\nBonnets up.\nBYO chairs and snacks\, Fish-n-chips if you like. \n
URL:http://baysideclub.org.au/event/club-noggin-natter-5/
LOCATION:John Street\, Thornside\, QLD\, 4158\, Australia
CATEGORIES:Club
ATTACH;FMTTYPE=image/jpeg:http://baysideclub.org.au/wp-content/uploads/beth-boyd-park-thorneside1.jpg
END:VEVENT
BEGIN:VEVENT
DTSTART;TZID=UTC+10:20180414T173000
DTEND;TZID=UTC+10:20180414T210000
DTSTAMP:20180224T055450
CREATED:20171110T112633Z
LAST-MODIFIED:20180208T101355Z
UID:3847-1523727000-1523739600@baysideclub.org.au
SUMMARY:All Wheels a Go
DESCRIPTION:All Wheels A Go \nMeet at Hungry Jacks – Wynnum Plaza\, Wynnum Rd\, Wynnum West\nEvery Saturday from 5:00 PM \n \n
URL:http://baysideclub.org.au/event/all-wheels-a-go-2018-04-14/
LOCATION:2021 Wynnum Road\, Wynnum West\, Queensland\, 4178\, Australia
CATEGORIES:Others
ATTACH;FMTTYPE=image/jpeg:http://baysideclub.org.au/wp-content/uploads/AllWheelsAGo_WynnumCarMeet_Feature.jpg
END:VEVENT
BEGIN:VEVENT
DTSTART;TZID=UTC+10:20180417T181500
DTEND;TZID=UTC+10:20180417T210000
DTSTAMP:20180224T055450
CREATED:20180208T122908Z
LAST-MODIFIED:20180208T130645Z
UID:4226-1523988900-1523998800@baysideclub.org.au
SUMMARY:Club Social Evening - April
DESCRIPTION:Capalaba Tavern \nMeet at the venue at 6:15pm \n
URL:http://baysideclub.org.au/event/club-social-evening-april-2018/
LOCATION:30 Old Cleveland Rd\, Capalaba\, QLD\, 4157\, Australia
CATEGORIES:Club
ATTACH;FMTTYPE=image/jpeg:http://baysideclub.org.au/wp-content/uploads/capalaba_tavern.jpg
END:VEVENT
BEGIN:VEVENT
DTSTART;TZID=UTC+10:20180419T093000
DTEND;TZID=UTC+10:20180419T140000
DTSTAMP:20180224T055450
CREATED:20180208T122626Z
LAST-MODIFIED:20180208T132249Z
UID:4227-1524130200-1524146400@baysideclub.org.au
SUMMARY:Midweek Club Run - April
DESCRIPTION:Morning Tea: Tingi Avenue\, Tanah Merah and visit collection\nUBD 243 G 18\nLunch: Loganlea Picnic Reserve Grounds\, Slacks Creek\nUBD 242 P 13 \n
URL:http://baysideclub.org.au/event/midweek-club-run-2018-04-19/
LOCATION:Queensland
CATEGORIES:Club
ATTACH;FMTTYPE=image/jpeg:http://baysideclub.org.au/wp-content/uploads/LoganLeaPicnicReserve.jpg
END:VEVENT
BEGIN:VEVENT
DTSTART;TZID=UTC+10:20180420T160000
DTEND;TZID=UTC+10:20180420T210000
DTSTAMP:20180224T055450
CREATED:20180208T104235Z
LAST-MODIFIED:20180208T104235Z
UID:4122-1524240000-1524258000@baysideclub.org.au
SUMMARY:Munch Inn - Show-n-Shine
DESCRIPTION:Come and appreciate others’ cars and encourage young people into our hobby. \nMeet in the shops carpark\, enter off Mitchell Street. \n
URL:http://baysideclub.org.au/event/munch-inn-show-n-shine-32/
LOCATION:Cnr Beaudesert Road and Elizabeth Streets\, Acacia Ridge\, QLD\, Australia
CATEGORIES:Others
END:VEVENT
BEGIN:VEVENT
DTSTART;TZID=UTC+10:20180421T173000
DTEND;TZID=UTC+10:20180421T210000
DTSTAMP:20180224T055450
CREATED:20171110T112633Z
LAST-MODIFIED:20180208T101413Z
UID:3848-1524331800-1524344400@baysideclub.org.au
SUMMARY:All Wheels a Go
DESCRIPTION:All Wheels A Go \nMeet at Hungry Jacks – Wynnum Plaza\, Wynnum Rd\, Wynnum West\nEvery Saturday from 5:00 PM \n \n
URL:http://baysideclub.org.au/event/all-wheels-a-go-2018-04-21/
LOCATION:2021 Wynnum Road\, Wynnum West\, Queensland\, 4178\, Australia
CATEGORIES:Others
ATTACH;FMTTYPE=image/jpeg:http://baysideclub.org.au/wp-content/uploads/AllWheelsAGo_WynnumCarMeet_Feature.jpg
END:VEVENT
END:VCALENDAR